Package: celaref Version: 1.28.0 Command: /home/biocbuild/R/R/bin/R CMD INSTALL celaref StartedAt: 2025-11-20 22:10:46 -0000 (Thu, 20 Nov 2025) EndedAt: 2025-11-20 22:11:23 -0000 (Thu, 20 Nov 2025) EllapsedTime: 37.1 seconds RetCode: 0 Status: OK