Package: celaref Version: 1.28.0 Command: /home/biocbuild/R/R/bin/R CMD check --install=check:celaref.install-out.txt --library=/home/biocbuild/R/R/site-library --no-vignettes --timings celaref_1.28.0.tar.gz StartedAt: 2025-11-21 08:47:55 -0000 (Fri, 21 Nov 2025) EndedAt: 2025-11-21 08:53:04 -0000 (Fri, 21 Nov 2025) EllapsedTime: 309.3 seconds RetCode: 0 Status: OK CheckDir: celaref.Rcheck Warnings: 0