Package: celaref Version: 1.28.0 Command: /home/biocbuild/R/R/bin/R CMD build --keep-empty-dirs --no-resave-data celaref StartedAt: 2025-11-21 00:59:19 -0000 (Fri, 21 Nov 2025) EndedAt: 2025-11-21 01:03:44 -0000 (Fri, 21 Nov 2025) EllapsedTime: 265.1 seconds RetCode: 0 Status: OK PackageFile: celaref_1.28.0.tar.gz PackageFileSize: 2.114 MiB