Package: celaref Version: 1.27.0 Command: /Library/Frameworks/R.framework/Resources/bin/R CMD INSTALL celaref StartedAt: 2025-10-02 15:13:19 -0400 (Thu, 02 Oct 2025) EndedAt: 2025-10-02 15:13:30 -0400 (Thu, 02 Oct 2025) EllapsedTime: 11.0 seconds RetCode: 0 Status: OK