Package: ceRNAnetsim Version: 1.22.0 Command: /home/biocbuild/R/R/bin/R CMD build --keep-empty-dirs --no-resave-data ceRNAnetsim StartedAt: 2025-11-18 00:22:56 -0000 (Tue, 18 Nov 2025) EndedAt: 2025-11-18 00:29:42 -0000 (Tue, 18 Nov 2025) EllapsedTime: 406.1 seconds RetCode: 0 Status: OK PackageFile: ceRNAnetsim_1.22.0.tar.gz PackageFileSize: 2.865 MiB