Package: ceRNAnetsim Version: 1.22.0 Command: /home/biocbuild/bbs-3.22-bioc/R/bin/R CMD check --install=check:ceRNAnetsim.install-out.txt --library=/home/biocbuild/bbs-3.22-bioc/R/site-library --timings ceRNAnetsim_1.22.0.tar.gz StartedAt: 2025-11-18 01:38:57 -0500 (Tue, 18 Nov 2025) EndedAt: 2025-11-18 01:46:23 -0500 (Tue, 18 Nov 2025) EllapsedTime: 446.4 seconds RetCode: 0 Status: OK CheckDir: ceRNAnetsim.Rcheck Warnings: 0