Package: ccrepe Version: 1.45.0 Command: /home/biocbuild/R/R/bin/R CMD INSTALL ccrepe StartedAt: 2025-10-20 20:22:52 -0000 (Mon, 20 Oct 2025) EndedAt: 2025-10-20 20:23:17 -0000 (Mon, 20 Oct 2025) EllapsedTime: 24.2 seconds RetCode: 0 Status: OK