Package: ccrepe Version: 1.45.0 Command: /Library/Frameworks/R.framework/Resources/bin/R CMD build --keep-empty-dirs --no-resave-data ccrepe StartedAt: 2025-10-19 16:24:02 -0400 (Sun, 19 Oct 2025) EndedAt: 2025-10-19 16:24:27 -0400 (Sun, 19 Oct 2025) EllapsedTime: 25.1 seconds RetCode: 0 Status: OK PackageFile: ccrepe_1.45.0.tar.gz PackageFileSize: 303.6 KiB