Package: ccrepe Version: 1.45.0 Command: rm -rf ccrepe.buildbin-libdir && mkdir ccrepe.buildbin-libdir && /Users/biocbuild/BBS/utils/build-universal.sh ccrepe_1.45.0.tar.gz /Library/Frameworks/R.framework/Resources/bin/R ccrepe.buildbin-libdir StartedAt: 2025-10-20 03:00:10 -0400 (Mon, 20 Oct 2025) EndedAt: 2025-10-20 03:00:17 -0400 (Mon, 20 Oct 2025) EllapsedTime: 6.9 seconds RetCode: 0 Status: OK PackageFile: ccrepe_1.45.0.tgz PackageFileSize: 359.7 KiB