Package: ccrepe Version: 1.45.0 Command: /Library/Frameworks/R.framework/Resources/bin/R CMD INSTALL ccrepe StartedAt: 2025-10-19 15:06:20 -0400 (Sun, 19 Oct 2025) EndedAt: 2025-10-19 15:06:23 -0400 (Sun, 19 Oct 2025) EllapsedTime: 3.9 seconds RetCode: 0 Status: OK