Package: ccrepe Version: 1.45.0 Command: /Library/Frameworks/R.framework/Resources/bin/R CMD check --install=check:ccrepe.install-out.txt --library=/Library/Frameworks/R.framework/Resources/library --no-vignettes --timings ccrepe_1.45.0.tar.gz StartedAt: 2025-10-19 18:48:49 -0400 (Sun, 19 Oct 2025) EndedAt: 2025-10-19 18:49:01 -0400 (Sun, 19 Oct 2025) EllapsedTime: 12.1 seconds RetCode: 0 Status: OK CheckDir: ccrepe.Rcheck Warnings: 0