Package: ccrepe Version: 1.45.0 Command: rm -rf ccrepe.buildbin-libdir && mkdir ccrepe.buildbin-libdir && /Users/biocbuild/BBS/utils/build-universal.sh ccrepe_1.45.0.tar.gz /Library/Frameworks/R.framework/Resources/bin/R ccrepe.buildbin-libdir StartedAt: 2025-10-19 22:53:19 -0400 (Sun, 19 Oct 2025) EndedAt: 2025-10-19 22:53:21 -0400 (Sun, 19 Oct 2025) EllapsedTime: 2.1 seconds RetCode: 0 Status: OK PackageFile: ccrepe_1.45.0.tgz PackageFileSize: 360.7 KiB