Package: ccmap Version: 1.35.1 Command: F:\biocbuild\bbs-3.22-bioc\R\bin\R.exe CMD INSTALL ccmap StartedAt: 2025-08-14 15:56:26 -0400 (Thu, 14 Aug 2025) EndedAt: 2025-08-14 15:56:49 -0400 (Thu, 14 Aug 2025) EllapsedTime: 22.8 seconds RetCode: 0 Status: OK