Package: ccmap Version: 1.35.1 Command: /home/biocbuild/bbs-3.22-bioc/R/bin/R CMD build --keep-empty-dirs --no-resave-data --md5 ccmap StartedAt: 2025-10-20 16:38:00 -0400 (Mon, 20 Oct 2025) EndedAt: 2025-10-20 16:38:16 -0400 (Mon, 20 Oct 2025) EllapsedTime: 16.0 seconds RetCode: 1 Status: ERROR PackageFile: None PackageFileSize: NA