Package: ccmap Version: 1.35.1 Command: /Library/Frameworks/R.framework/Resources/bin/R CMD build --keep-empty-dirs --no-resave-data ccmap StartedAt: 2025-10-23 15:51:26 -0400 (Thu, 23 Oct 2025) EndedAt: 2025-10-23 15:51:33 -0400 (Thu, 23 Oct 2025) EllapsedTime: 7.1 seconds RetCode: 1 Status: ERROR PackageFile: None PackageFileSize: NA