Package: ccfindR Version: 1.30.0 Command: /home/biocbuild/R/R/bin/R CMD INSTALL ccfindR StartedAt: 2025-11-13 21:26:46 -0000 (Thu, 13 Nov 2025) EndedAt: 2025-11-13 21:27:53 -0000 (Thu, 13 Nov 2025) EllapsedTime: 67.3 seconds RetCode: 0 Status: OK