Package: ccfindR Version: 1.30.0 Command: /home/biocbuild/R/R/bin/R CMD check --install=check:ccfindR.install-out.txt --library=/home/biocbuild/R/R/site-library --no-vignettes --timings ccfindR_1.30.0.tar.gz StartedAt: 2025-11-14 07:38:51 -0000 (Fri, 14 Nov 2025) EndedAt: 2025-11-14 07:43:24 -0000 (Fri, 14 Nov 2025) EllapsedTime: 273.3 seconds RetCode: 0 Status: WARNINGS CheckDir: ccfindR.Rcheck Warnings: 1