Package: ccfindR Version: 1.30.0 Command: /home/biocbuild/R/R/bin/R CMD build --keep-empty-dirs --no-resave-data ccfindR StartedAt: 2025-11-14 00:20:39 -0000 (Fri, 14 Nov 2025) EndedAt: 2025-11-14 00:25:43 -0000 (Fri, 14 Nov 2025) EllapsedTime: 304.1 seconds RetCode: 0 Status: OK PackageFile: ccfindR_1.30.0.tar.gz PackageFileSize: 937.4 KiB