Package: cbpManager Version: 1.18.0 Command: /home/biocbuild/bbs-3.22-bioc/R/bin/R CMD check --install=check:cbpManager.install-out.txt --library=/home/biocbuild/bbs-3.22-bioc/R/site-library --timings cbpManager_1.18.0.tar.gz StartedAt: 2025-11-18 01:28:34 -0500 (Tue, 18 Nov 2025) EndedAt: 2025-11-18 01:31:04 -0500 (Tue, 18 Nov 2025) EllapsedTime: 149.1 seconds RetCode: 0 Status: WARNINGS CheckDir: cbpManager.Rcheck Warnings: 1