Package: cbpManager Version: 1.18.0 Command: /home/biocbuild/bbs-3.22-bioc/R/bin/R CMD build --keep-empty-dirs --no-resave-data --md5 cbpManager StartedAt: 2025-11-17 19:57:28 -0500 (Mon, 17 Nov 2025) EndedAt: 2025-11-17 19:57:40 -0500 (Mon, 17 Nov 2025) EllapsedTime: 12.0 seconds RetCode: 0 Status: OK PackageFile: cbpManager_1.18.0.tar.gz PackageFileSize: 4.648 MiB