Package: cbpManager Version: 1.18.0 Command: /Library/Frameworks/R.framework/Resources/bin/R CMD INSTALL cbpManager StartedAt: 2025-11-03 15:18:27 -0500 (Mon, 03 Nov 2025) EndedAt: 2025-11-03 15:18:38 -0500 (Mon, 03 Nov 2025) EllapsedTime: 11.1 seconds RetCode: 0 Status: OK