Package: cbpManager Version: 1.18.0 Command: /Library/Frameworks/R.framework/Resources/bin/R CMD check --install=check:cbpManager.install-out.txt --library=/Library/Frameworks/R.framework/Resources/library --no-vignettes --timings cbpManager_1.18.0.tar.gz StartedAt: 2025-11-03 20:01:29 -0500 (Mon, 03 Nov 2025) EndedAt: 2025-11-03 20:02:45 -0500 (Mon, 03 Nov 2025) EllapsedTime: 76.0 seconds RetCode: 0 Status: WARNINGS CheckDir: cbpManager.Rcheck Warnings: 1