Package: cbpManager Version: 1.18.0 Command: /Library/Frameworks/R.framework/Resources/bin/R CMD build --keep-empty-dirs --no-resave-data cbpManager StartedAt: 2025-11-03 16:21:58 -0500 (Mon, 03 Nov 2025) EndedAt: 2025-11-03 16:22:19 -0500 (Mon, 03 Nov 2025) EllapsedTime: 20.6 seconds RetCode: 0 Status: OK PackageFile: cbpManager_1.18.0.tar.gz PackageFileSize: 4.639 MiB