Package: cancerclass Version: 1.53.0 Command: F:\biocbuild\bbs-3.22-bioc\R\bin\R.exe CMD check --no-multiarch --install=check:cancerclass.install-out.txt --library=F:\biocbuild\bbs-3.22-bioc\R\library --no-vignettes --timings cancerclass_1.53.0.tar.gz StartedAt: 2025-08-15 01:19:06 -0400 (Fri, 15 Aug 2025) EndedAt: 2025-08-15 01:20:24 -0400 (Fri, 15 Aug 2025) EllapsedTime: 78.0 seconds RetCode: 0 Status: OK CheckDir: cancerclass.Rcheck Warnings: 0