Package: cancerclass Version: 1.53.0 Command: rm -rf cancerclass.buildbin-libdir && mkdir cancerclass.buildbin-libdir && F:\biocbuild\bbs-3.22-bioc\R\bin\R.exe CMD INSTALL --build --library=cancerclass.buildbin-libdir cancerclass_1.53.0.tar.gz StartedAt: 2025-08-15 09:53:28 -0400 (Fri, 15 Aug 2025) EndedAt: 2025-08-15 09:54:21 -0400 (Fri, 15 Aug 2025) EllapsedTime: 53.7 seconds RetCode: 0 Status: OK PackageFile: cancerclass_1.53.0.zip PackageFileSize: 1.522 MiB