Package: cancerclass Version: 1.53.0 Command: /Library/Frameworks/R.framework/Resources/bin/R CMD check --install=check:cancerclass.install-out.txt --library=/Library/Frameworks/R.framework/Resources/library --no-vignettes --timings cancerclass_1.53.0.tar.gz StartedAt: 2025-10-21 20:44:31 -0400 (Tue, 21 Oct 2025) EndedAt: 2025-10-21 20:45:34 -0400 (Tue, 21 Oct 2025) EllapsedTime: 63.2 seconds RetCode: 0 Status: WARNINGS CheckDir: cancerclass.Rcheck Warnings: 1