Package: cancerclass Version: 1.53.0 Command: rm -rf cancerclass.buildbin-libdir && mkdir cancerclass.buildbin-libdir && /Users/biocbuild/BBS/utils/build-universal.sh cancerclass_1.53.0.tar.gz /Library/Frameworks/R.framework/Resources/bin/R cancerclass.buildbin-libdir StartedAt: 2025-10-20 02:59:54 -0400 (Mon, 20 Oct 2025) EndedAt: 2025-10-20 03:00:06 -0400 (Mon, 20 Oct 2025) EllapsedTime: 12.7 seconds RetCode: 0 Status: OK PackageFile: cancerclass_1.53.0.tgz PackageFileSize: 1.628 MiB