Package: cancerclass Version: 1.53.0 Command: rm -rf cancerclass.buildbin-libdir && mkdir cancerclass.buildbin-libdir && /Users/biocbuild/BBS/utils/build-universal.sh cancerclass_1.53.0.tar.gz /Library/Frameworks/R.framework/Resources/bin/R cancerclass.buildbin-libdir StartedAt: 2025-10-19 22:53:03 -0400 (Sun, 19 Oct 2025) EndedAt: 2025-10-19 22:53:07 -0400 (Sun, 19 Oct 2025) EllapsedTime: 4.1 seconds RetCode: 0 Status: OK PackageFile: cancerclass_1.53.0.tgz PackageFileSize: 1.625 MiB