Package: canceR Version: 1.43.0 Command: rm -rf canceR.buildbin-libdir && mkdir canceR.buildbin-libdir && F:\biocbuild\bbs-3.22-bioc\R\bin\R.exe CMD INSTALL --build --library=canceR.buildbin-libdir canceR_1.43.0.tar.gz StartedAt: 2025-08-15 09:53:26 -0400 (Fri, 15 Aug 2025) EndedAt: 2025-08-15 09:55:18 -0400 (Fri, 15 Aug 2025) EllapsedTime: 112.2 seconds RetCode: 0 Status: OK PackageFile: canceR_1.43.0.zip PackageFileSize: 14.91 MiB