Package: canceR Version: 1.43.0 Command: /home/biocbuild/bbs-3.22-bioc/R/bin/R CMD INSTALL canceR StartedAt: 2025-10-22 15:58:13 -0400 (Wed, 22 Oct 2025) EndedAt: 2025-10-22 15:59:33 -0400 (Wed, 22 Oct 2025) EllapsedTime: 79.4 seconds RetCode: 0 Status: OK