Package: canceR Version: 1.43.0 Command: /Library/Frameworks/R.framework/Resources/bin/R CMD check --install=check:canceR.install-out.txt --library=/Library/Frameworks/R.framework/Resources/library --no-vignettes --timings canceR_1.43.0.tar.gz StartedAt: 2025-10-23 19:52:37 -0400 (Thu, 23 Oct 2025) EndedAt: 2025-10-23 20:02:41 -0400 (Thu, 23 Oct 2025) EllapsedTime: 604.2 seconds RetCode: 0 Status: WARNINGS CheckDir: canceR.Rcheck Warnings: 1