Package: canceR Version: 1.43.0 Command: /Library/Frameworks/R.framework/Resources/bin/R CMD build --keep-empty-dirs --no-resave-data canceR StartedAt: 2025-10-23 16:17:18 -0400 (Thu, 23 Oct 2025) EndedAt: 2025-10-23 16:19:45 -0400 (Thu, 23 Oct 2025) EllapsedTime: 147.2 seconds RetCode: 0 Status: OK PackageFile: canceR_1.43.0.tar.gz PackageFileSize: 31.46 MiB