Package: canceR Version: 1.43.0 Command: rm -rf canceR.buildbin-libdir && mkdir canceR.buildbin-libdir && /Users/biocbuild/BBS/utils/build-universal.sh canceR_1.43.0.tar.gz /Library/Frameworks/R.framework/Resources/bin/R canceR.buildbin-libdir StartedAt: 2025-10-24 01:25:20 -0400 (Fri, 24 Oct 2025) EndedAt: 2025-10-24 01:27:51 -0400 (Fri, 24 Oct 2025) EllapsedTime: 151.4 seconds RetCode: 0 Status: OK PackageFile: canceR_1.43.0.tgz PackageFileSize: 14.91 MiB