Package: calm Version: 1.23.0 Command: /home/biocbuild/R/R/bin/R CMD INSTALL calm StartedAt: 2025-10-13 20:43:53 -0000 (Mon, 13 Oct 2025) EndedAt: 2025-10-13 20:44:20 -0000 (Mon, 13 Oct 2025) EllapsedTime: 26.6 seconds RetCode: 0 Status: OK