Package: calm Version: 1.23.0 Command: /home/biocbuild/R/R/bin/R CMD check --install=check:calm.install-out.txt --library=/home/biocbuild/R/R/site-library --no-vignettes --timings calm_1.23.0.tar.gz StartedAt: 2025-10-14 06:22:50 -0000 (Tue, 14 Oct 2025) EndedAt: 2025-10-14 06:24:13 -0000 (Tue, 14 Oct 2025) EllapsedTime: 83.1 seconds RetCode: 0 Status: OK CheckDir: calm.Rcheck Warnings: 0