Package: calm Version: 1.23.0 Command: /home/biocbuild/R/R/bin/R CMD build --keep-empty-dirs --no-resave-data calm StartedAt: 2025-10-13 22:52:09 -0000 (Mon, 13 Oct 2025) EndedAt: 2025-10-13 22:54:51 -0000 (Mon, 13 Oct 2025) EllapsedTime: 162.1 seconds RetCode: 0 Status: OK PackageFile: calm_1.23.0.tar.gz PackageFileSize: 390.2 KiB