Package: cageminer Version: 1.15.2 Command: rm -rf cageminer.buildbin-libdir && mkdir cageminer.buildbin-libdir && /Users/biocbuild/BBS/utils/build-universal.sh cageminer_1.15.2.tar.gz /Library/Frameworks/R.framework/Resources/bin/R cageminer.buildbin-libdir StartedAt: 2025-10-03 01:48:01 -0400 (Fri, 03 Oct 2025) EndedAt: 2025-10-03 01:49:19 -0400 (Fri, 03 Oct 2025) EllapsedTime: 78.6 seconds RetCode: 0 Status: OK PackageFile: cageminer_1.15.2.tgz PackageFileSize: 1.451 MiB