Package: cTRAP Version: 1.28.0 Command: /Library/Frameworks/R.framework/Resources/bin/R CMD check --install=check:cTRAP.install-out.txt --library=/Library/Frameworks/R.framework/Resources/library --no-vignettes --timings cTRAP_1.28.0.tar.gz StartedAt: 2025-11-18 04:54:01 -0500 (Tue, 18 Nov 2025) EndedAt: 2025-11-18 04:59:15 -0500 (Tue, 18 Nov 2025) EllapsedTime: 313.9 seconds RetCode: 0 Status: OK CheckDir: cTRAP.Rcheck Warnings: 0