Package: cTRAP Version: 1.28.0 Command: /Library/Frameworks/R.framework/Resources/bin/R CMD build --keep-empty-dirs --no-resave-data cTRAP StartedAt: 2025-11-17 20:17:25 -0500 (Mon, 17 Nov 2025) EndedAt: 2025-11-17 20:18:13 -0500 (Mon, 17 Nov 2025) EllapsedTime: 47.4 seconds RetCode: 0 Status: OK PackageFile: cTRAP_1.28.0.tar.gz PackageFileSize: 5.307 MiB