Package: cTRAP Version: 1.28.0 Command: rm -rf cTRAP.buildbin-libdir && mkdir cTRAP.buildbin-libdir && /Users/biocbuild/BBS/utils/build-universal.sh cTRAP_1.28.0.tar.gz /Library/Frameworks/R.framework/Resources/bin/R cTRAP.buildbin-libdir StartedAt: 2025-11-18 15:23:19 -0500 (Tue, 18 Nov 2025) EndedAt: 2025-11-18 15:23:35 -0500 (Tue, 18 Nov 2025) EllapsedTime: 16.2 seconds RetCode: 0 Status: OK PackageFile: cTRAP_1.28.0.tgz PackageFileSize: 6.406 MiB