Package: bugsigdbr Version: 1.15.3 Command: /Library/Frameworks/R.framework/Resources/bin/R CMD check --install=check:bugsigdbr.install-out.txt --library=/Library/Frameworks/R.framework/Resources/library --no-vignettes --timings bugsigdbr_1.15.3.tar.gz StartedAt: 2025-10-13 20:36:06 -0400 (Mon, 13 Oct 2025) EndedAt: 2025-10-13 20:41:35 -0400 (Mon, 13 Oct 2025) EllapsedTime: 329.5 seconds RetCode: 0 Status: OK CheckDir: bugsigdbr.Rcheck Warnings: 0