Package: bugsigdbr Version: 1.15.3 Command: rm -rf bugsigdbr.buildbin-libdir && mkdir bugsigdbr.buildbin-libdir && /Users/biocbuild/BBS/utils/build-universal.sh bugsigdbr_1.15.3.tar.gz /Library/Frameworks/R.framework/Resources/bin/R bugsigdbr.buildbin-libdir StartedAt: 2025-10-14 02:34:26 -0400 (Tue, 14 Oct 2025) EndedAt: 2025-10-14 02:34:32 -0400 (Tue, 14 Oct 2025) EllapsedTime: 5.8 seconds RetCode: 0 Status: OK PackageFile: bugsigdbr_1.15.3.tgz PackageFileSize: 360.4 KiB