Package: bsseq Version: 1.45.4 Command: /Library/Frameworks/R.framework/Resources/bin/R CMD check --install=check:bsseq.install-out.txt --library=/Library/Frameworks/R.framework/Resources/library --no-vignettes --timings bsseq_1.45.4.tar.gz StartedAt: 2025-10-24 18:47:30 -0400 (Fri, 24 Oct 2025) EndedAt: 2025-10-24 18:50:40 -0400 (Fri, 24 Oct 2025) EllapsedTime: 190.2 seconds RetCode: 0 Status: OK CheckDir: bsseq.Rcheck Warnings: 0