Package: bsseq Version: 1.45.4 Command: rm -rf bsseq.buildbin-libdir && mkdir bsseq.buildbin-libdir && /Users/biocbuild/BBS/utils/build-universal.sh bsseq_1.45.4.tar.gz /Library/Frameworks/R.framework/Resources/bin/R bsseq.buildbin-libdir StartedAt: 2025-10-24 22:56:12 -0400 (Fri, 24 Oct 2025) EndedAt: 2025-10-24 22:56:35 -0400 (Fri, 24 Oct 2025) EllapsedTime: 22.5 seconds RetCode: 0 Status: OK PackageFile: bsseq_1.45.4.tgz PackageFileSize: 3.791 MiB