Back to Multiple platform build/check report for BioC 3.22:   simplified   long
A[B]CDEFGHIJKLMNOPQRSTUVWXYZ

This page was generated on 2025-11-01 12:02 -0400 (Sat, 01 Nov 2025).

HostnameOSArch (*)R versionInstalled pkgs
nebbiolo2Linux (Ubuntu 24.04.3 LTS)x86_644.5.1 Patched (2025-08-23 r88802) -- "Great Square Root" 4901
lconwaymacOS 12.7.6 Montereyx86_644.5.1 Patched (2025-09-10 r88807) -- "Great Square Root" 4691
kjohnson3macOS 13.7.7 Venturaarm644.5.1 Patched (2025-09-10 r88807) -- "Great Square Root" 4637
Click on any hostname to see more info about the system (e.g. compilers)      (*) as reported by 'uname -p', except on Windows and Mac OS X

All results for package bsseq


To the developers/maintainers of the bsseq package:
- Allow up to 24 hours (and sometimes 48 hours) for your latest push to git@git.bioconductor.org:packages/bsseq.git to reflect on this report. See Troubleshooting Build Report for more information.
- Use the following Renviron settings to reproduce errors and warnings.
- If 'R CMD check' started to fail recently on the Linux builder(s) over a missing dependency, add the missing dependency to 'Suggests:' in your DESCRIPTION file. See Renviron.bioc for more information.

raw results

Package 255/2361HostnameOS / ArchINSTALLBUILDCHECKBUILD BIN
bsseq 1.46.0  (landing page)
Kasper Daniel Hansen
Snapshot Date: 2025-10-31 13:45 -0400 (Fri, 31 Oct 2025)
git_url: https://git.bioconductor.org/packages/bsseq
git_branch: RELEASE_3_22
git_last_commit: ea21812
git_last_commit_date: 2025-10-29 10:11:31 -0400 (Wed, 29 Oct 2025)
nebbiolo2Linux (Ubuntu 24.04.3 LTS) / x86_64  OK    OK    OK  UNNEEDED, same version is already published
lconwaymacOS 12.7.6 Monterey / x86_64  OK    OK    OK    OK  UNNEEDED, same version is already published
kjohnson3macOS 13.7.7 Ventura / arm64  OK    OK    OK    OK  UNNEEDED, same version is already published



Results for Bioconductor software packages that depend directly on package bsseq

QUICK STATSOS / ArchINSTALLBUILDCHECKBUILD BIN
nebbiolo2Linux (Ubuntu 24.04.3 LTS) / x86_64
0011
0011
0029
lconwaymacOS 12.7.6 Monterey / x86_64
0011
0011
0029
0011
kjohnson3macOS 13.7.7 Ventura / arm64
0011
0011
0029
0011
Package 1/11HostnameOS / ArchINSTALLBUILDCHECKBUILD BIN
biscuiteer 1.24.0  (landing page)
Jacob Morrison
git_last_commit: 29c89c4
git_last_commit_date: 2025-10-29 10:55:16 -0400
nebbiolo2Linux (Ubuntu 24.04.3 LTS) / x86_64  OK    OK    WARNINGS  UNNEEDED, same version is already published
lconwaymacOS 12.7.6 Monterey / x86_64  OK    OK    WARNINGS    OK  UNNEEDED, same version is already published
kjohnson3macOS 13.7.7 Ventura / arm64  OK    OK    WARNINGS    OK  UNNEEDED, same version is already published
Package 2/11HostnameOS / ArchINSTALLBUILDCHECKBUILD BIN
borealis 1.14.0  (landing page)
Garrett Jenkinson
git_last_commit: eac9f5e
git_last_commit_date: 2025-10-29 11:16:27 -0400
nebbiolo2Linux (Ubuntu 24.04.3 LTS) / x86_64  OK    OK    OK  UNNEEDED, same version is already published
lconwaymacOS 12.7.6 Monterey / x86_64  OK    OK    OK    OK  UNNEEDED, same version is already published
kjohnson3macOS 13.7.7 Ventura / arm64  OK    OK    OK    OK  UNNEEDED, same version is already published
Package 3/11HostnameOS / ArchINSTALLBUILDCHECKBUILD BIN
DMRcate 3.6.0  (landing page)
Tim Peters
git_last_commit: d522a97
git_last_commit_date: 2025-10-29 10:18:14 -0400
nebbiolo2Linux (Ubuntu 24.04.3 LTS) / x86_64  OK    OK    OK  UNNEEDED, same version is already published
lconwaymacOS 12.7.6 Monterey / x86_64  OK    OK    OK    OK  UNNEEDED, same version is already published
kjohnson3macOS 13.7.7 Ventura / arm64  OK    OK    OK    OK  UNNEEDED, same version is already published
Package 4/11HostnameOS / ArchINSTALLBUILDCHECKBUILD BIN
dmrseq 1.30.0  (landing page)
Keegan Korthauer
git_last_commit: 10b6432
git_last_commit_date: 2025-10-29 10:43:32 -0400
nebbiolo2Linux (Ubuntu 24.04.3 LTS) / x86_64  OK    OK    OK  UNNEEDED, same version is already published
lconwaymacOS 12.7.6 Monterey / x86_64  OK    OK    OK    OK  UNNEEDED, same version is already published
kjohnson3macOS 13.7.7 Ventura / arm64  OK    OK    OK    OK  UNNEEDED, same version is already published
Package 5/11HostnameOS / ArchINSTALLBUILDCHECKBUILD BIN
DSS 2.58.0  (landing page)
Hao Wu , Hao Feng
git_last_commit: 11b2949
git_last_commit_date: 2025-10-29 10:11:20 -0400
nebbiolo2Linux (Ubuntu 24.04.3 LTS) / x86_64  OK    OK    WARNINGS  UNNEEDED, same version is already published
lconwaymacOS 12.7.6 Monterey / x86_64  OK    OK    WARNINGS    OK  UNNEEDED, same version is already published
kjohnson3macOS 13.7.7 Ventura / arm64  OK    OK    WARNINGS    OK  UNNEEDED, same version is already published
Package 6/11HostnameOS / ArchINSTALLBUILDCHECKBUILD BIN
methylCC 1.24.0  (landing page)
Stephanie C. Hicks
git_last_commit: 98b2564
git_last_commit_date: 2025-10-29 10:54:45 -0400
nebbiolo2Linux (Ubuntu 24.04.3 LTS) / x86_64  OK    OK    OK  UNNEEDED, same version is already published
lconwaymacOS 12.7.6 Monterey / x86_64  OK    OK    OK    OK  UNNEEDED, same version is already published
kjohnson3macOS 13.7.7 Ventura / arm64  OK    OK    OK    OK  UNNEEDED, same version is already published
Package 7/11HostnameOS / ArchINSTALLBUILDCHECKBUILD BIN
methylSig 1.22.0  (landing page)
Raymond G. Cavalcante
git_last_commit: e0dc461
git_last_commit_date: 2025-10-29 10:58:51 -0400
nebbiolo2Linux (Ubuntu 24.04.3 LTS) / x86_64  OK    OK    OK  UNNEEDED, same version is already published
lconwaymacOS 12.7.6 Monterey / x86_64  OK    OK    OK    OK  UNNEEDED, same version is already published
kjohnson3macOS 13.7.7 Ventura / arm64  OK    OK    OK    OK  UNNEEDED, same version is already published
Package 8/11HostnameOS / ArchINSTALLBUILDCHECKBUILD BIN
MIRA 1.32.0  (landing page)
John Lawson
git_last_commit: bb55c9a
git_last_commit_date: 2025-10-29 10:41:11 -0400
nebbiolo2Linux (Ubuntu 24.04.3 LTS) / x86_64  OK    OK    OK  UNNEEDED, same version is already published
lconwaymacOS 12.7.6 Monterey / x86_64  OK    OK    OK    OK  UNNEEDED, same version is already published
kjohnson3macOS 13.7.7 Ventura / arm64  OK    OK    OK    OK  UNNEEDED, same version is already published
Package 9/11HostnameOS / ArchINSTALLBUILDCHECKBUILD BIN
NanoMethViz 3.6.0  (landing page)
Shian Su
git_last_commit: 836d7c6
git_last_commit_date: 2025-10-29 11:04:08 -0400
nebbiolo2Linux (Ubuntu 24.04.3 LTS) / x86_64  OK    OK    OK  UNNEEDED, same version is already published
lconwaymacOS 12.7.6 Monterey / x86_64  OK    OK    OK    OK  UNNEEDED, same version is already published
kjohnson3macOS 13.7.7 Ventura / arm64  OK    OK    OK    OK  UNNEEDED, same version is already published
Package 10/11HostnameOS / ArchINSTALLBUILDCHECKBUILD BIN
scmeth 1.30.0  (landing page)
Divy Kangeyan
git_last_commit: 0e01390
git_last_commit_date: 2025-10-29 10:43:21 -0400
nebbiolo2Linux (Ubuntu 24.04.3 LTS) / x86_64  OK    OK    OK  UNNEEDED, same version is already published
lconwaymacOS 12.7.6 Monterey / x86_64  OK    OK    OK    OK  UNNEEDED, same version is already published
kjohnson3macOS 13.7.7 Ventura / arm64  OK    OK    OK    OK  UNNEEDED, same version is already published
Package 11/11HostnameOS / ArchINSTALLBUILDCHECKBUILD BIN
SOMNiBUS 1.18.0  (landing page)
Kathleen Klein
git_last_commit: 9c4cdd6
git_last_commit_date: 2025-10-29 11:05:55 -0400
nebbiolo2Linux (Ubuntu 24.04.3 LTS) / x86_64  OK    OK    OK  UNNEEDED, same version is already published
lconwaymacOS 12.7.6 Monterey / x86_64  OK    OK    OK    OK  UNNEEDED, same version is already published
kjohnson3macOS 13.7.7 Ventura / arm64  OK    OK    OK    OK  UNNEEDED, same version is already published