Package: broadSeq Version: 1.4.0 Command: /home/biocbuild/bbs-3.22-bioc/R/bin/R CMD INSTALL broadSeq StartedAt: 2025-11-06 15:48:24 -0500 (Thu, 06 Nov 2025) EndedAt: 2025-11-06 15:49:03 -0500 (Thu, 06 Nov 2025) EllapsedTime: 39.4 seconds RetCode: 0 Status: OK