Package: broadSeq Version: 1.4.0 Command: /home/biocbuild/bbs-3.22-bioc/R/bin/R CMD check --install=check:broadSeq.install-out.txt --library=/home/biocbuild/bbs-3.22-bioc/R/site-library --timings broadSeq_1.4.0.tar.gz StartedAt: 2025-11-06 21:38:52 -0500 (Thu, 06 Nov 2025) EndedAt: 2025-11-06 21:45:36 -0500 (Thu, 06 Nov 2025) EllapsedTime: 403.5 seconds RetCode: 0 Status: WARNINGS CheckDir: broadSeq.Rcheck Warnings: 1