Package: broadSeq Version: 1.4.0 Command: /Library/Frameworks/R.framework/Resources/bin/R CMD check --install=check:broadSeq.install-out.txt --library=/Library/Frameworks/R.framework/Resources/library --no-vignettes --timings broadSeq_1.4.0.tar.gz StartedAt: 2025-11-06 18:47:01 -0500 (Thu, 06 Nov 2025) EndedAt: 2025-11-06 18:49:00 -0500 (Thu, 06 Nov 2025) EllapsedTime: 119.5 seconds RetCode: 0 Status: WARNINGS CheckDir: broadSeq.Rcheck Warnings: 1