Package: broadSeq Version: 1.4.0 Command: rm -rf broadSeq.buildbin-libdir && mkdir broadSeq.buildbin-libdir && /Users/biocbuild/BBS/utils/build-universal.sh broadSeq_1.4.0.tar.gz /Library/Frameworks/R.framework/Resources/bin/R broadSeq.buildbin-libdir StartedAt: 2025-11-06 22:58:01 -0500 (Thu, 06 Nov 2025) EndedAt: 2025-11-06 22:58:19 -0500 (Thu, 06 Nov 2025) EllapsedTime: 17.3 seconds RetCode: 0 Status: OK PackageFile: broadSeq_1.4.0.tgz PackageFileSize: 4.169 MiB