Package: breakpointR Version: 1.28.0 Command: /Library/Frameworks/R.framework/Resources/bin/R CMD INSTALL breakpointR StartedAt: 2025-11-20 17:25:33 -0500 (Thu, 20 Nov 2025) EndedAt: 2025-11-20 17:26:07 -0500 (Thu, 20 Nov 2025) EllapsedTime: 34.3 seconds RetCode: 0 Status: OK